BEGIN:VCALENDAR
VERSION:2.0
PRODID:-//OmniMagnetCalendar//EN
BEGIN:VEVENT
DTSTAMP:20190625T195740Z
STATUS:CONFIRMED
UID:hcgeorgia.clubs.harvard.edu455
DTSTART:20161204T220000Z
DTEND:20161205T000000Z
LOCATION:Home of Robert hahn, 936 Austin Ave., Atlanta, GA, 30307,
SUMMARY:Race Working Group
DESCRIPTION:And Potluck Dinner
BEGIN:VALARM
TRIGGER:-PT15M
ACTION:DISPLAY
END:VALARM
TRANSP:OPAQUE
END:VEVENT
END:VCALENDAR
