BEGIN:VCALENDAR
VERSION:2.0
PRODID:-//OmniMagnetCalendar//EN
BEGIN:VEVENT
DTSTAMP:20190625T195740Z
STATUS:CONFIRMED
UID:hcgeorgia.clubs.harvard.edu476
DTSTART:20170401T160000Z
DTEND:20170401T190000Z
LOCATION:Crowell Brothers Funeral Home, 5051 Peachtree Industrial Blvd. Peachtree Corners, Peachtree Corners, GA, 30092,
SUMMARY:Memorial Service
DESCRIPTION:Dr. Charles Warren Hofer (MBA'65, SM'66, DBA'69)
BEGIN:VALARM
TRIGGER:-PT15M
ACTION:DISPLAY
END:VALARM
TRANSP:OPAQUE
END:VEVENT
END:VCALENDAR
