BEGIN:VCALENDAR
VERSION:2.0
PRODID:-//OmniMagnetCalendar//EN
BEGIN:VEVENT
DTSTAMP:20190625T195740Z
STATUS:CONFIRMED
UID:hcgeorgia.clubs.harvard.edu479
DTSTART:20170507T170000Z
DTEND:20170507T210000Z
LOCATION:Ponce City Market, 675 Ponce de Leon Avenue, NE, Atlanta, GA, 30308,
SUMMARY:Spring Back to Harvard 2017
DESCRIPTION:Ponce City Market's Skyline Park Alumni Event
BEGIN:VALARM
TRIGGER:-PT15M
ACTION:DISPLAY
END:VALARM
TRANSP:OPAQUE
END:VEVENT
END:VCALENDAR
