BEGIN:VCALENDAR
VERSION:2.0
PRODID:-//OmniMagnetCalendar//EN
BEGIN:VEVENT
DTSTAMP:20190625T195740Z
STATUS:CONFIRMED
UID:hcgeorgia.clubs.harvard.edu480
DTSTART:20170608T220000Z
DTEND:20170609T010000Z
LOCATION:Varuni Napoli, 1540 Monroe Dr NE, Atlanta, GA, 30324,
SUMMARY:Harvard Graduate School of Education
DESCRIPTION:Networking Meet-up
BEGIN:VALARM
TRIGGER:-PT15M
ACTION:DISPLAY
END:VALARM
TRANSP:OPAQUE
END:VEVENT
END:VCALENDAR
