BEGIN:VCALENDAR
VERSION:2.0
PRODID:-//OmniMagnetCalendar//EN
BEGIN:VEVENT
DTSTAMP:20190625T195740Z
STATUS:CONFIRMED
UID:hcgeorgia.clubs.harvard.edu518
DTSTART:20180215T130000Z
DTEND:20180215T143000Z
LOCATION:The  Commerce Club, 191 Peachtree St. NE, Atlanta, GA, 30303,
SUMMARY:Madam President: from Liberia's Leader to Nobel Laureate
DESCRIPTION:Breakfast with Nobel Prize Recipient and former President of LiberiaEllen Johnson Sirleaf, MPA'71
BEGIN:VALARM
TRIGGER:-PT15M
ACTION:DISPLAY
END:VALARM
TRANSP:OPAQUE
END:VEVENT
END:VCALENDAR
