BEGIN:VCALENDAR
VERSION:2.0
PRODID:-//OmniMagnetCalendar//EN
BEGIN:VEVENT
DTSTAMP:20190625T195740Z
STATUS:CONFIRMED
UID:hcgeorgia.clubs.harvard.edu524
DTSTART:20181216T210000Z
DTEND:20181216T230000Z
LOCATION:Home of Robert Hahn, 936 Austin Ave, Atlanta, GA, 30307,
SUMMARY:Race Working Group - Dec
DESCRIPTION:Location changed!
BEGIN:VALARM
TRIGGER:-PT15M
ACTION:DISPLAY
END:VALARM
TRANSP:OPAQUE
END:VEVENT
END:VCALENDAR
