BEGIN:VCALENDAR
VERSION:2.0
PRODID:-//OmniMagnetCalendar//EN
BEGIN:VEVENT
DTSTAMP:20190625T195740Z
STATUS:CONFIRMED
UID:hcgeorgia.clubs.harvard.edu529
DTSTART:20180505T130000Z
DTEND:20180505T160000Z
LOCATION:Atlanta Community Food Bank, 732 Joseph E Lowery Blvd NW, Atlanta, GA, 30318,
SUMMARY:Harvard/Yale Game for Good at the Atlanta Community Food Bank 2018
DESCRIPTION:Join us to support needy families & team Harvard!
BEGIN:VALARM
TRIGGER:-PT15M
ACTION:DISPLAY
END:VALARM
TRANSP:OPAQUE
END:VEVENT
END:VCALENDAR
