BEGIN:VCALENDAR
VERSION:2.0
PRODID:-//OmniMagnetCalendar//EN
BEGIN:VEVENT
DTSTAMP:20190625T195740Z
STATUS:CONFIRMED
UID:hcgeorgia.clubs.harvard.edu546
DTSTART:20181014T223000Z
DTEND:20181015T010000Z
LOCATION:Babette's Cafe, 573 North Highland Avenue Northeast, Atlanta, GA, 30307,
SUMMARY:Sunday Supper - Oct
DESCRIPTION:with guest; Carol Naughton, President, Purpose Built Communities
BEGIN:VALARM
TRIGGER:-PT15M
ACTION:DISPLAY
END:VALARM
TRANSP:OPAQUE
END:VEVENT
END:VCALENDAR
