BEGIN:VCALENDAR
VERSION:2.0
PRODID:-//OmniMagnetCalendar//EN
BEGIN:VEVENT
DTSTAMP:20190625T195740Z
STATUS:CONFIRMED
UID:hcgeorgia.clubs.harvard.edu556
DTSTART:20190113T233000Z
DTEND:
LOCATION:Parish: The Brasserie & Neighborhood Cafe, 240 North Highland Avenue , Atlanta, GA, 30307,
SUMMARY:Sunday Supper - Jan
DESCRIPTION:with guest; Neil Kinkopf, Professor, Georgia State University College of Law at Parish
BEGIN:VALARM
TRIGGER:-PT15M
ACTION:DISPLAY
END:VALARM
TRANSP:OPAQUE
END:VEVENT
END:VCALENDAR
