BEGIN:VCALENDAR
VERSION:2.0
PRODID:-//OmniMagnetCalendar//EN
BEGIN:VEVENT
DTSTAMP:20190625T195740Z
STATUS:CONFIRMED
UID:hcgeorgia.clubs.harvard.edu572
DTSTART:20190725T220000Z
DTEND:20190726T010000Z
LOCATION:Maggiano's Buckhead, 3368 Peachtree Road, Atlanta, GA, 30326,
SUMMARY:Annual Dinner with Dr. Anthony Jack
DESCRIPTION:Fellow at the Harvard Society of Fellows and Assistant Professor of Education at the Harvard Graduate School of Education***Ticket sales have ended for this event***
BEGIN:VALARM
TRIGGER:-PT15M
ACTION:DISPLAY
END:VALARM
TRANSP:OPAQUE
END:VEVENT
END:VCALENDAR
