BEGIN:VCALENDAR
VERSION:2.0
PRODID:-//OmniMagnetCalendar//EN
BEGIN:VEVENT
DTSTAMP:20190625T195740Z
STATUS:CONFIRMED
UID:hcgeorgia.clubs.harvard.edu578
DTSTART:20190915T220000Z
DTEND:
LOCATION:Wrecking Bar Brewpub, 292 Moreland Ave NE, Atlanta, GA, 30307,
SUMMARY:Sunday Supper - Sept
DESCRIPTION:with guest; Natosha Reid Rice,Associate General Counsel for Real Estate & Finance at Habitat for Humanity International at the Wrecking Bar Brewpub.
BEGIN:VALARM
TRIGGER:-PT15M
ACTION:DISPLAY
END:VALARM
TRANSP:OPAQUE
END:VEVENT
END:VCALENDAR
