BEGIN:VCALENDAR
VERSION:2.0
PRODID:-//OmniMagnetCalendar//EN
BEGIN:VEVENT
DTSTAMP:20190625T195740Z
STATUS:CONFIRMED
UID:hcgeorgia.clubs.harvard.edu580
DTSTART:20190828T223000Z
DTEND:
LOCATION:Home of Suzi Jacobs, 234 Ponce de Leon Ave. NE, Atlanta, GA, 30308,
SUMMARY:Harvard Club of Georgia Book Club - Aug
DESCRIPTION:Topic: These Truths by Suzi Jacobs
BEGIN:VALARM
TRIGGER:-PT15M
ACTION:DISPLAY
END:VALARM
TRANSP:OPAQUE
END:VEVENT
END:VCALENDAR
