BEGIN:VCALENDAR
VERSION:2.0
PRODID:-//OmniMagnetCalendar//EN
BEGIN:VEVENT
DTSTAMP:20190625T195740Z
STATUS:CONFIRMED
UID:hcgeorgia.clubs.harvard.edu582
DTSTART:20190821T223000Z
DTEND:
LOCATION:Haus Gables, 169 Sampson Street NE, Atlanta, GA, 30312, US,
SUMMARY:Haus Gables:
DESCRIPTION:TCLT Home Tour & Talkby Jennifer Bonner (GSD ’09)
BEGIN:VALARM
TRIGGER:-PT15M
ACTION:DISPLAY
END:VALARM
TRANSP:OPAQUE
END:VEVENT
END:VCALENDAR
