BEGIN:VCALENDAR
VERSION:2.0
PRODID:-//OmniMagnetCalendar//EN
BEGIN:VEVENT
DTSTAMP:20190625T195740Z
STATUS:CONFIRMED
UID:hcgeorgia.clubs.harvard.edu584
DTSTART:20190922T000000Z
DTEND:
LOCATION:Cobb Energy Performaning Arts Centre, 2800 Cobb Galleria Pkwy, Atlanta, GA, 30339, US,
SUMMARY:HCG Night at the Atlanta Ballet
DESCRIPTION:Performance of Love Fear Loss& Meet/Greet with choreographer Claudia Schreier, Harvard ’08
BEGIN:VALARM
TRIGGER:-PT15M
ACTION:DISPLAY
END:VALARM
TRANSP:OPAQUE
END:VEVENT
END:VCALENDAR
