BEGIN:VCALENDAR
VERSION:2.0
PRODID:-//OmniMagnetCalendar//EN
BEGIN:VEVENT
DTSTAMP:20190625T195740Z
STATUS:CONFIRMED
UID:hcgeorgia.clubs.harvard.edu585
DTSTART:20191017T210000Z
DTEND:20191017T233000Z
LOCATION:Rooftop of Fado's Irish Pub at The Shops at Buckhead, 273 Buckhead Ave NE, Atlanta, GA, 30305,
SUMMARY:Harvard Military Veteran Happy Hour
DESCRIPTION:Connect with other Harvard military veteran graduates in AtlantaHosted by the Harvard Business School Club of Atlanta
BEGIN:VALARM
TRIGGER:-PT15M
ACTION:DISPLAY
END:VALARM
TRANSP:OPAQUE
END:VEVENT
END:VCALENDAR
