BEGIN:VCALENDAR
VERSION:2.0
PRODID:-//OmniMagnetCalendar//EN
BEGIN:VEVENT
DTSTAMP:20190625T195740Z
STATUS:CONFIRMED
UID:hcgeorgia.clubs.harvard.edu586
DTSTART:20200115T230000Z
DTEND:20200116T020001Z
LOCATION:Livingston, 659 Peachtree St. NE, Atlanta, GA, 30308, United States of America,
SUMMARY:Global Night of Networking - Atlanta 2020
DESCRIPTION:At Livingston in the Georgian Terrace Hotel, MidtownBiannual worldwide event sponsored by the Harvard Alumni Association, regional Harvard Clubs, & Shared Interest Groups (SIGs)
BEGIN:VALARM
TRIGGER:-PT15M
ACTION:DISPLAY
END:VALARM
TRANSP:OPAQUE
END:VEVENT
END:VCALENDAR
