BEGIN:VCALENDAR
VERSION:2.0
PRODID:-//OmniMagnetCalendar//EN
BEGIN:VEVENT
DTSTAMP:20190625T195740Z
STATUS:CONFIRMED
UID:hcgeorgia.clubs.harvard.edu591
DTSTART:20191024T220000Z
DTEND:20191025T010000Z
LOCATION:Ecco - Buckhead, 3586 Peachtree Rd NE, Atlanta, GA, 30326,
SUMMARY:Harvard & Columbia Clubs Atlanta Happy Hour
DESCRIPTION:Ecco - Buckhead**Location change
BEGIN:VALARM
TRIGGER:-PT15M
ACTION:DISPLAY
END:VALARM
TRANSP:OPAQUE
END:VEVENT
END:VCALENDAR
