BEGIN:VCALENDAR
VERSION:2.0
PRODID:-//OmniMagnetCalendar//EN
BEGIN:VEVENT
DTSTAMP:20190625T195740Z
STATUS:CONFIRMED
UID:hcgeorgia.clubs.harvard.edu592
DTSTART:20191121T233000Z
DTEND:
LOCATION:Woodruff Arts Center - High Museum - Stent Family Wing, 1280 Peachtree St NE, Atlanta, GA, 30309,
SUMMARY:A Celebration of Black Art, History & Culture
DESCRIPTION:A private reception & showing of the High's Romare Bearden Exhibit to benefit the 50th Anniversary of the Kuumba Singers of Harvard College
BEGIN:VALARM
TRIGGER:-PT15M
ACTION:DISPLAY
END:VALARM
TRANSP:OPAQUE
END:VEVENT
END:VCALENDAR
