BEGIN:VCALENDAR
VERSION:2.0
PRODID:-//OmniMagnetCalendar//EN
BEGIN:VEVENT
DTSTAMP:20190625T195740Z
STATUS:CONFIRMED
UID:hcgeorgia.clubs.harvard.edu596
DTSTART:20191207T223000Z
DTEND:20191208T010000Z
LOCATION:Rob Chen Home, (address will be provided at bottom of order confirmation), Sandy Springs, GA,
SUMMARY:Annual Holiday Party
DESCRIPTION:Get your tickets now!
BEGIN:VALARM
TRIGGER:-PT15M
ACTION:DISPLAY
END:VALARM
TRANSP:OPAQUE
END:VEVENT
END:VCALENDAR
