BEGIN:VCALENDAR
VERSION:2.0
PRODID:-//OmniMagnetCalendar//EN
BEGIN:VEVENT
DTSTAMP:20190625T195740Z
STATUS:CONFIRMED
UID:hcgeorgia.clubs.harvard.edu597
DTSTART:20200216T230000Z
DTEND:
LOCATION:Wrecking Bar Brewpub, 292 Moreland Ave NE, Atlanta, GA, 30307,
SUMMARY:Sunday Supper - Feb
DESCRIPTION:with guest; Saira A. Mehmood,Visiting Assistant Professor at Spelman College,Department of Sociology & Anthropology at the Wrecking Bar Brewpub.
BEGIN:VALARM
TRIGGER:-PT15M
ACTION:DISPLAY
END:VALARM
TRANSP:OPAQUE
END:VEVENT
END:VCALENDAR
