BEGIN:VCALENDAR
VERSION:2.0
PRODID:-//OmniMagnetCalendar//EN
BEGIN:VEVENT
DTSTAMP:20190625T195740Z
STATUS:CONFIRMED
UID:hcgeorgia.clubs.harvard.edu608
DTSTART:20200603T210000Z
DTEND:20200603T220000Z
LOCATION:Virtual,
SUMMARY:Virtual Happy Hour - June
DESCRIPTION:with the Columbia Club of Atlanta (This event has been rescheduled from May 27)
BEGIN:VALARM
TRIGGER:-PT15M
ACTION:DISPLAY
END:VALARM
TRANSP:OPAQUE
END:VEVENT
END:VCALENDAR
