BEGIN:VCALENDAR
VERSION:2.0
PRODID:-//OmniMagnetCalendar//EN
BEGIN:VEVENT
DTSTAMP:20190625T195740Z
STATUS:CONFIRMED
UID:hcgeorgia.clubs.harvard.edu614
DTSTART:20201021T223000Z
DTEND:
LOCATION:Virtual Zoom Meeting,
SUMMARY:Harvard Club of Georgia Book Club - Oct
DESCRIPTION:Topic: The Uninhabitable Earth: Life after Warming by David Wallace-WellsZoom Meeting
BEGIN:VALARM
TRIGGER:-PT15M
ACTION:DISPLAY
END:VALARM
TRANSP:OPAQUE
END:VEVENT
END:VCALENDAR
