BEGIN:VCALENDAR
VERSION:2.0
PRODID:-//OmniMagnetCalendar//EN
BEGIN:VEVENT
DTSTAMP:20190625T195740Z
STATUS:CONFIRMED
UID:hcgeorgia.clubs.harvard.edu624
DTSTART:20210211T230000Z
DTEND:20210212T003000Z
LOCATION:Virtual,
SUMMARY:Wine Tasting Zoom Event
DESCRIPTION:Valentine Wines by Women Winemakers
BEGIN:VALARM
TRIGGER:-PT15M
ACTION:DISPLAY
END:VALARM
TRANSP:OPAQUE
END:VEVENT
END:VCALENDAR
