BEGIN:VCALENDAR
VERSION:2.0
PRODID:-//OmniMagnetCalendar//EN
BEGIN:VEVENT
DTSTAMP:20190625T195740Z
STATUS:CONFIRMED
UID:hcgeorgia.clubs.harvard.edu627
DTSTART:20210421T223000Z
DTEND:
LOCATION:Virtual,
SUMMARY:Harvard Club of Georgia Book Club - April
DESCRIPTION:Topic: The Tyranny of Merit:  What's Become of the Common Goodby Michael SandelZoom Meeting
BEGIN:VALARM
TRIGGER:-PT15M
ACTION:DISPLAY
END:VALARM
TRANSP:OPAQUE
END:VEVENT
END:VCALENDAR
