BEGIN:VCALENDAR
VERSION:2.0
PRODID:-//OmniMagnetCalendar//EN
BEGIN:VEVENT
DTSTAMP:20190625T195740Z
STATUS:CONFIRMED
UID:hcgeorgia.clubs.harvard.edu629
DTSTART:20210721T223000Z
DTEND:
LOCATION:Home of Julian Bene (for those Covid-19 vaccinated), 761 Courtenay Dr., Atlanta, GA, 30306, US,
SUMMARY:Harvard Club of Georgia Book Club - July
DESCRIPTION:Topic: A Promised Landby Barak ObamaIn-person for those vacinated
BEGIN:VALARM
TRIGGER:-PT15M
ACTION:DISPLAY
END:VALARM
TRANSP:OPAQUE
END:VEVENT
END:VCALENDAR
