BEGIN:VCALENDAR
VERSION:2.0
PRODID:-//OmniMagnetCalendar//EN
BEGIN:VEVENT
DTSTAMP:20190625T195740Z
STATUS:CONFIRMED
UID:hcgeorgia.clubs.harvard.edu631
DTSTART:20210818T223000Z
DTEND:20210819T003000Z
LOCATION:Virtual, 936 Austin Ave, Atlanta, GA, 30307,
SUMMARY:Harvard Club of Georgia Book Club - August
DESCRIPTION:Topic: Half of a Yellow Sunby Chimamanda Ngozi Adichie  Meeting via Zoom.  Tickets are free, but please "purchase" a free ticket on the next page.
BEGIN:VALARM
TRIGGER:-PT15M
ACTION:DISPLAY
END:VALARM
TRANSP:OPAQUE
END:VEVENT
END:VCALENDAR
