BEGIN:VCALENDAR
VERSION:2.0
PRODID:-//OmniMagnetCalendar//EN
BEGIN:VEVENT
DTSTAMP:20190625T195740Z
STATUS:CONFIRMED
UID:hcgeorgia.clubs.harvard.edu637
DTSTART:20210926T220000Z
DTEND:20210927T000000Z
LOCATION:Sotto Sotto,  313 North Highland Avenue Northeast,  Atlanta, GA, 30307,
SUMMARY:Sunday Supper - September
DESCRIPTION:with guest; Tanya Washington,Georgia State University College of Law at Sotto Sotto
BEGIN:VALARM
TRIGGER:-PT15M
ACTION:DISPLAY
END:VALARM
TRANSP:OPAQUE
END:VEVENT
END:VCALENDAR
