BEGIN:VCALENDAR
VERSION:2.0
PRODID:-//OmniMagnetCalendar//EN
BEGIN:VEVENT
DTSTAMP:20190625T195740Z
STATUS:CONFIRMED
UID:hcgeorgia.clubs.harvard.edu643
DTSTART:20211205T221137Z
DTEND:20211211T151142Z
LOCATION:The Alliance Theatre,
SUMMARY:Join Harvard Club Alums for A Christmas Carol at the Alliance Theater.
DESCRIPTION:
BEGIN:VALARM
TRIGGER:-PT15M
ACTION:DISPLAY
END:VALARM
TRANSP:OPAQUE
END:VEVENT
END:VCALENDAR
