BEGIN:VCALENDAR
VERSION:2.0
PRODID:-//OmniMagnetCalendar//EN
BEGIN:VEVENT
DTSTAMP:20190625T195740Z
STATUS:CONFIRMED
UID:hcgeorgia.clubs.harvard.edu644
DTSTART:20220220T230000Z
DTEND:20220221T020000Z
LOCATION:Home of Robert Hahn, 936 Austin Ave., Atlanta, GA, 30307,
SUMMARY:Sunday Supper - February
DESCRIPTION:with guest; Dana Nichols, KIPP Metro Atlanta Schools
BEGIN:VALARM
TRIGGER:-PT15M
ACTION:DISPLAY
END:VALARM
TRANSP:OPAQUE
END:VEVENT
END:VCALENDAR
