BEGIN:VCALENDAR
VERSION:2.0
PRODID:-//OmniMagnetCalendar//EN
BEGIN:VEVENT
DTSTAMP:20190625T195740Z
STATUS:CONFIRMED
UID:hcgeorgia.clubs.harvard.edu651
DTSTART:20220424T220000Z
DTEND:20220425T000000Z
LOCATION:Home of Katie and Reade Fahs,
SUMMARY:Sunday Supper - April
DESCRIPTION:with guest; Audrea N Rease, Partner, Star C
BEGIN:VALARM
TRIGGER:-PT15M
ACTION:DISPLAY
END:VALARM
TRANSP:OPAQUE
END:VEVENT
END:VCALENDAR
