BEGIN:VCALENDAR
VERSION:2.0
PRODID:-//OmniMagnetCalendar//EN
BEGIN:VEVENT
DTSTAMP:20190625T195740Z
STATUS:CONFIRMED
UID:hcgeorgia.clubs.harvard.edu658
DTSTART:20220817T223000Z
DTEND:20220817T223000Z
LOCATION:Virtual,
SUMMARY:Book Club - August
DESCRIPTION:Topic: Braiding Sweetgrassby Robin Wall Kimmerer  Meeting via Zoom. Participation is free, but please notify Robert Hahn of plans to participate (Rahahn5@gmail.com)
BEGIN:VALARM
TRIGGER:-PT15M
ACTION:DISPLAY
END:VALARM
TRANSP:OPAQUE
END:VEVENT
END:VCALENDAR
