BEGIN:VCALENDAR
VERSION:2.0
PRODID:-//OmniMagnetCalendar//EN
BEGIN:VEVENT
DTSTAMP:20190625T195740Z
STATUS:CONFIRMED
UID:hcgeorgia.clubs.harvard.edu663
DTSTART:20220724T220000Z
DTEND:20220725T000000Z
LOCATION:Provided with registration,
SUMMARY:Harvard Club of Georgia Annual Picnic - July 24
DESCRIPTION:
BEGIN:VALARM
TRIGGER:-PT15M
ACTION:DISPLAY
END:VALARM
TRANSP:OPAQUE
END:VEVENT
END:VCALENDAR
