BEGIN:VCALENDAR
VERSION:2.0
PRODID:-//OmniMagnetCalendar//EN
BEGIN:VEVENT
DTSTAMP:20190625T195740Z
STATUS:CONFIRMED
UID:hcgeorgia.clubs.harvard.edu665
DTSTART:20220731T220000Z
DTEND:20220801T010000Z
LOCATION:Home of Robert Hahn,
SUMMARY:Sunday Supper - July
DESCRIPTION:with guest; Robert Hahn,Artist at His Home
BEGIN:VALARM
TRIGGER:-PT15M
ACTION:DISPLAY
END:VALARM
TRANSP:OPAQUE
END:VEVENT
END:VCALENDAR
