BEGIN:VCALENDAR
VERSION:2.0
PRODID:-//OmniMagnetCalendar//EN
BEGIN:VEVENT
DTSTAMP:20190625T195740Z
STATUS:CONFIRMED
UID:hcgeorgia.clubs.harvard.edu670
DTSTART:20221116T233000Z
DTEND:20221117T013000Z
LOCATION:Virtual,
SUMMARY:Book Club - November
DESCRIPTION:Topic: Companion Pieceby Ali Smith  Meeting via Zoom. Participation is free, but please notify Robert Hahn of plans to participate (Rahahn5@gmail.com)
BEGIN:VALARM
TRIGGER:-PT15M
ACTION:DISPLAY
END:VALARM
TRANSP:OPAQUE
END:VEVENT
END:VCALENDAR
