BEGIN:VCALENDAR
VERSION:2.0
PRODID:-//OmniMagnetCalendar//EN
BEGIN:VEVENT
DTSTAMP:20190625T195740Z
STATUS:CONFIRMED
UID:hcgeorgia.clubs.harvard.edu673
DTSTART:20230315T223000Z
DTEND:20230316T003000Z
LOCATION:Virtual,
SUMMARY:Book Club - March
DESCRIPTION:Topic: Rise and Fall of the Neoliberal Orderby  Gary Gerstle  Meeting via Zoom. Participation is free, but please notify Robert Hahn of plans to participate (Rahahn5@gmail.com)
BEGIN:VALARM
TRIGGER:-PT15M
ACTION:DISPLAY
END:VALARM
TRANSP:OPAQUE
END:VEVENT
END:VCALENDAR
