BEGIN:VCALENDAR
VERSION:2.0
PRODID:-//OmniMagnetCalendar//EN
BEGIN:VEVENT
DTSTAMP:20190625T195740Z
STATUS:CONFIRMED
UID:hcgeorgia.clubs.harvard.edu676
DTSTART:20221005T220000Z
DTEND:20221006T000000Z
LOCATION:The Millennium Gate Museum, 395 17th St. NW, Atlanta, Georgia, United States,
SUMMARY:Book Signing and Chat with Ernie Suggs and Andrew Young
DESCRIPTION:
BEGIN:VALARM
TRIGGER:-PT15M
ACTION:DISPLAY
END:VALARM
TRANSP:OPAQUE
END:VEVENT
END:VCALENDAR
