BEGIN:VCALENDAR
VERSION:2.0
PRODID:-//OmniMagnetCalendar//EN
BEGIN:VEVENT
DTSTAMP:20190625T195740Z
STATUS:CONFIRMED
UID:hcgeorgia.clubs.harvard.edu686
DTSTART:20230611T220000Z
DTEND:20230612T010000Z
LOCATION:At the Home of Swapan Kumar,
SUMMARY:Sunday Supper - June
DESCRIPTION:with guest; Courtney Knight Location - At the Home of Swapan Kumar
BEGIN:VALARM
TRIGGER:-PT15M
ACTION:DISPLAY
END:VALARM
TRANSP:OPAQUE
END:VEVENT
END:VCALENDAR
