BEGIN:VCALENDAR
VERSION:2.0
PRODID:-//OmniMagnetCalendar//EN
BEGIN:VEVENT
DTSTAMP:20190625T195740Z
STATUS:CONFIRMED
UID:hcgeorgia.clubs.harvard.edu690
DTSTART:20230507T220000Z
DTEND:20230508T010000Z
LOCATION:At the Home of Greg Cole- Location Provided to Registered Guests,
SUMMARY:Sunday Supper - May
DESCRIPTION:with guest; Melanie Cook At the home of Greg Cole
BEGIN:VALARM
TRIGGER:-PT15M
ACTION:DISPLAY
END:VALARM
TRANSP:OPAQUE
END:VEVENT
END:VCALENDAR
