BEGIN:VCALENDAR
VERSION:2.0
PRODID:-//OmniMagnetCalendar//EN
BEGIN:VEVENT
DTSTAMP:20190625T195740Z
STATUS:CONFIRMED
UID:hcgeorgia.clubs.harvard.edu693
DTSTART:20230716T220000Z
DTEND:20230717T010000Z
LOCATION:At the Home of Mike St. Louis - Location Provided to Registered Guests,
SUMMARY:Sunday Supper - July
DESCRIPTION:with guest; William S. Duffey At the home of Mike St. Louis
BEGIN:VALARM
TRIGGER:-PT15M
ACTION:DISPLAY
END:VALARM
TRANSP:OPAQUE
END:VEVENT
END:VCALENDAR
