BEGIN:VCALENDAR
VERSION:2.0
PRODID:-//OmniMagnetCalendar//EN
BEGIN:VEVENT
DTSTAMP:20190625T195740Z
STATUS:CONFIRMED
UID:hcgeorgia.clubs.harvard.edu694
DTSTART:20230419T233000Z
DTEND:20230420T013000Z
LOCATION:McElreath Hall, 130 West Paces Ferry Rd, Atlanta, GA, 30305, USA,
SUMMARY:Mary Louise Kelly (AB '93) to Deliver the Sidney Isenberg Lecture at Atlanta History Center
DESCRIPTION:
BEGIN:VALARM
TRIGGER:-PT15M
ACTION:DISPLAY
END:VALARM
TRANSP:OPAQUE
END:VEVENT
END:VCALENDAR
