BEGIN:VCALENDAR
VERSION:2.0
PRODID:-//OmniMagnetCalendar//EN
BEGIN:VEVENT
DTSTAMP:20190625T195740Z
STATUS:CONFIRMED
UID:hcgeorgia.clubs.harvard.edu695
DTSTART:20230721T221500Z
DTEND:20230722T020000Z
LOCATION:High Museum, 1280 Peachtree St NE, Atlanta, GA, 30309, USA,
SUMMARY:Harvard goes to Jazz at the High - High Museum
DESCRIPTION:
BEGIN:VALARM
TRIGGER:-PT15M
ACTION:DISPLAY
END:VALARM
TRANSP:OPAQUE
END:VEVENT
END:VCALENDAR
