BEGIN:VCALENDAR
VERSION:2.0
PRODID:-//OmniMagnetCalendar//EN
BEGIN:VEVENT
DTSTAMP:20190625T195740Z
STATUS:CONFIRMED
UID:hcgeorgia.clubs.harvard.edu697
DTSTART:20230819T180000Z
DTEND:20230819T200000Z
LOCATION:The Georgia Bar Association Building, 104 Marietta St NW, Suite 100, Atlanta, GA, 30303, USA,
SUMMARY:College Counseling Event
DESCRIPTION:
BEGIN:VALARM
TRIGGER:-PT15M
ACTION:DISPLAY
END:VALARM
TRANSP:OPAQUE
END:VEVENT
END:VCALENDAR
