BEGIN:VCALENDAR
VERSION:2.0
PRODID:-//OmniMagnetCalendar//EN
BEGIN:VEVENT
DTSTAMP:20190625T195740Z
STATUS:CONFIRMED
UID:hcgeorgia.clubs.harvard.edu698
DTSTART:20230916T180000Z
DTEND:20230916T200000Z
LOCATION:Georgia Bar Association Building, 104 Marietta Street NW, Suite 100, Atlanta, GA, 30303,
SUMMARY:Career Exploration Event
DESCRIPTION:
BEGIN:VALARM
TRIGGER:-PT15M
ACTION:DISPLAY
END:VALARM
TRANSP:OPAQUE
END:VEVENT
END:VCALENDAR
