BEGIN:VCALENDAR
VERSION:2.0
PRODID:-//OmniMagnetCalendar//EN
BEGIN:VEVENT
DTSTAMP:20190625T195740Z
STATUS:CONFIRMED
UID:hcgeorgia.clubs.harvard.edu700
DTSTART:20230816T223000Z
DTEND:20230817T003000Z
LOCATION:The home of Julian Bene  ,
SUMMARY:Book Club - August
DESCRIPTION:Topic: The Guest Lectureby  Martin Riker  At the home of Julian Bene. Participation is free, but please notify Robert Hahn of plans to participate (Rahahn5@gmail.com)
BEGIN:VALARM
TRIGGER:-PT15M
ACTION:DISPLAY
END:VALARM
TRANSP:OPAQUE
END:VEVENT
END:VCALENDAR
