BEGIN:VCALENDAR
VERSION:2.0
PRODID:-//OmniMagnetCalendar//EN
BEGIN:VEVENT
DTSTAMP:20190625T195740Z
STATUS:CONFIRMED
UID:hcgeorgia.clubs.harvard.edu705
DTSTART:20231015T213000Z
DTEND:20231016T003000Z
LOCATION:Home of Peter and Diana Perreiah,
SUMMARY:Book Club - October
DESCRIPTION:Topic: Lessons in Chemistryby Bonnie Gamus  Meeting in Person. Participation is free, but please notify Peter Perreiah of plans to participate (PLP4Consult@gmail.com), Registrants will be notified of the address.
BEGIN:VALARM
TRIGGER:-PT15M
ACTION:DISPLAY
END:VALARM
TRANSP:OPAQUE
END:VEVENT
END:VCALENDAR
