BEGIN:VCALENDAR
VERSION:2.0
PRODID:-//OmniMagnetCalendar//EN
BEGIN:VEVENT
DTSTAMP:20190625T195740Z
STATUS:CONFIRMED
UID:hcgeorgia.clubs.harvard.edu717
DTSTART:20231202T000000Z
DTEND:20231202T030000Z
LOCATION:Downtown Decatur Square, 509 N. McDonough St., Decatur, GA, 30030, USA,
SUMMARY:Harvard Club Family Night - Holiday Movie Night on the Square
DESCRIPTION:
BEGIN:VALARM
TRIGGER:-PT15M
ACTION:DISPLAY
END:VALARM
TRANSP:OPAQUE
END:VEVENT
END:VCALENDAR
