BEGIN:VCALENDAR
VERSION:2.0
PRODID:-//OmniMagnetCalendar//EN
BEGIN:VEVENT
DTSTAMP:20190625T195740Z
STATUS:CONFIRMED
UID:hcgeorgia.clubs.harvard.edu725
DTSTART:20240417T223000Z
DTEND:20240418T003000Z
LOCATION:TBD,
SUMMARY:Book Club - April
DESCRIPTION:Topic:  The Backstreets   by Perhat Tursun, translated from the Uyghur by Darren Byler and Anonymous   Participation is free, but please notify Robert Hahn of plans to participate (rahahn5@gmail.com)
BEGIN:VALARM
TRIGGER:-PT15M
ACTION:DISPLAY
END:VALARM
TRANSP:OPAQUE
END:VEVENT
END:VCALENDAR
