BEGIN:VCALENDAR
VERSION:2.0
PRODID:-//OmniMagnetCalendar//EN
BEGIN:VEVENT
DTSTAMP:20190625T195740Z
STATUS:CONFIRMED
UID:hcgeorgia.clubs.harvard.edu737
DTSTART:20240404T223000Z
DTEND:20240405T000000Z
LOCATION:The Lola, 621 North Avenue NE, Building D, Atlanta, GA, 30308, USA,
SUMMARY:Mindful Wine Tasting - Joint Event with HBS Club of Atlanta
DESCRIPTION:
BEGIN:VALARM
TRIGGER:-PT15M
ACTION:DISPLAY
END:VALARM
TRANSP:OPAQUE
END:VEVENT
END:VCALENDAR
