BEGIN:VCALENDAR
VERSION:2.0
PRODID:-//OmniMagnetCalendar//EN
BEGIN:VEVENT
DTSTAMP:20190625T195740Z
STATUS:CONFIRMED
UID:hcgeorgia.clubs.harvard.edu739
DTSTART:20240505T220000Z
DTEND:20240506T010000Z
LOCATION:At the Home of Mike St. Louis- Location Provided to Registered Guests,
SUMMARY:Sunday Supper - May
DESCRIPTION:with guest; Michael Thurmond  At the home of Mike St. Louis
BEGIN:VALARM
TRIGGER:-PT15M
ACTION:DISPLAY
END:VALARM
TRANSP:OPAQUE
END:VEVENT
END:VCALENDAR
