BEGIN:VCALENDAR
VERSION:2.0
PRODID:-//OmniMagnetCalendar//EN
BEGIN:VEVENT
DTSTAMP:20190625T195740Z
STATUS:CONFIRMED
UID:hcgeorgia.clubs.harvard.edu741
DTSTART:20240602T220000Z
DTEND:20240603T010000Z
LOCATION:At the Home of Cathy Huyghe - Location Provided to Registered Guests,
SUMMARY:Sunday Supper - June
DESCRIPTION:with guest; Allison Padilla-Goodman  At the home of Cathy Huyghe
BEGIN:VALARM
TRIGGER:-PT15M
ACTION:DISPLAY
END:VALARM
TRANSP:OPAQUE
END:VEVENT
END:VCALENDAR
